Workbook

Sheet S. PRMHN. PENGUJIAN
E2: PEMERINTAH PROVINSI GORONTALO | I2: No. | J2: BPMJB/FO/VII/01/01
E3: DINAS PEKERJAAN UMUM DAN PENATAAN RUANG | I3: No. Terbit | J3: 0
E4: PERUMAHAN DAN KAWASAN PERMUKIMAN
E5: UPTD BALAI PENGUJIAN MATERIAL JALAN DAN BANGUNAN | I5: Revisi | J5: 0
E6: KAJI ULANG PERMINTAAN TENDER DAN KONTRAK | I6: Tanggal | J6: 01-06-2021
I7: Paraf
B10: SURAT PERMOHONAN PENGUJIAN
B11: NOMOR SURAT : (silahkan di isi)
B14: KEPADA | D14: : | E14: Kepala Bidang UPTD Balai Pengujian Material | I14: TANGGAL SURAT | J14: : | K14: (silahkan di isi)
E15: Jalan dan Bangunan Provinsi Gorontalo
I16: TELEPON | J16: : | K16: (silahkan di isi)
B17: DARI | D17: : | E17: (di isi sesuai nama perusahaan)
I18: ALAMAT KANTOR | J18: : | K18: (silahkan di isi)
B19: PROYEK | D19: : | E19: (di isi sesuai nama paket / kegiatan)
I20: TAHUN | J20: : | K20: 2024
B21: LOKASI | D21: : | E21: (di isi sesuai nama kabupaten / kota)
B24: JENIS PENGAMBILAN CONTOH UJI
B25: DIKIRIM PELANGGAN | G25: (………..) | H25: DIAMBIL PETUGAS LPB-BM | L25: (………..)
B27: Diberi tanda (v) sesuai jenis pengambilan contoh
B29: NO. | C29: JENIS CONTOH UJI | F29: LOKASI | H29: TANGGAL | I29: JUMLAH | J29: KETERANGAN
F30: PENGAMBILAN | H30: PENGAMBILAN | I30: CONTOH UJI
B31: 1 | C31: (silahkan di isi sesuai jenis) | F31: (silahkan di isi) | H31: (silahkan di isi) | I31: (silahkan di isi)
B32: 2 | C32: (di isi jika lebih dari 1 jenis) | F32: (silahkan di isi) | H32: (silahkan di isi) | I32: (silahkan di isi)
B33: 3 | C33: (di isi jika lebih dari 2 jenis) | F33: (silahkan di isi) | H33: (silahkan di isi) | I33: (silahkan di isi)
B34: 4
B35: 5
B36: 6
B37: 7
B39: PENGUJIAN YANG DIMINTA | F39: 1 | G39: (silahkan di isi)
F40: 2 | G40: (di isi jika lebih dari 1 Pengujian)
F41: 3
F42: 4
F43: 5
B44: CATATAN | D44: :
C47: PENERIMA, | I47: PEMOHON,
B51: ( ) | I51: (di isi sesuai nama di KTP)
B54: Tembusan :
B55: Kepala UPTD Balai Pengujian Material Jalan dan Bahan Bangunan
B56: DinasPekerjaan Umum dan Penataan Ruang provinsi Gorontalo

Sheet KTP
D2: PHOTO KTP
D4: Silahkan di insert dalam kotak ini

Sheet Surat Permohonan
D2: SURAT PERMOHONAN
D4: Silahkan di insert dalam kotak ini dalam bentuk file pdf

Sheet Sheet1
G2: PEMERINTAH PROVINSI GORONTALO | AE2: No. | AJ2: BPMJB/FO/VII/01/01
G3: DINAS PEKERJAAN UMUM DAN PENATAAN RUANG | AE3: No. Terbit | AJ3: 0
G4: PERUMAHAN DAN KAWASAN PERMUKIMAN | AE4: Revisi | AJ4: 0
G5: UPTD BALAI PENGUJIAN MATERIAL JALAN DAN BANGUNAN | AE5: Tanggal | AJ5: 01-06-2021
G6: Jln. Prof. Dr. Aloei Saboe Nomor 92 Kota Gorontalo Telp. (0435) 821806 | AE6: Paraf
G7: 7.1. KAJI ULANG PERMINTAAN, TENDER DAN KONTRAK
B8: I. Data Pemohon | AH8: NO. ORDER : | AY8: PEMERINTAH PROVINSI GORONTALO
C9: Nama Pemohon | J9: : | K9: ='S. PRMHN. PENGUJIAN'!E17 -> (di isi sesuai nama perusahaan) | AY9: DINAS PEKERJAAN UMUM DAN PENATAAN RUANG
C10: Proyek / Kegiatan | J10: : | K10: ='S. PRMHN. PENGUJIAN'!E19 -> (di isi sesuai nama paket / kegiatan) | AE10: Tanggal | AI10: : | AY10: UPTD BALAI PENGUJIAN MATERIAL JALAN DAN BANGUNAN
C12: Lokasi | J12: : | K12: ='S. PRMHN. PENGUJIAN'!E21 -> (di isi sesuai nama kabupaten / kota) | AE12: Alamat | AI12: : | AJ12: ='S. PRMHN. PENGUJIAN'!K18 -> (silahkan di isi) | AY12: 7.1. KAJI ULANG PERMINTAAN, TENDER DAN KONTRAK
C13: Tahun Anggaran | J13: : | K13: 2024 | AE13: Telpon | AI13: : | AJ13: ='S. PRMHN. PENGUJIAN'!K16 -> (silahkan di isi)
B15: II. Jenis, Sumber, Jumlah dan Peruntukan Bahan (Lingkari No. Jenis bahan)
B16: No. | D16: Jenis Bahan | P16: Sumber Bahan | Y16: Jumlah | AE16: Peruntukan Bahan
B17: 1 | D17: Sirtu
B18: 2 | D18: Kerikil | H18: ü | Q18: ='S. PRMHN. PENGUJIAN'!F31 -> (silahkan di isi) | Z18: ='S. PRMHN. PENGUJIAN'!I31 -> (silahkan di isi) | AF18: ='S. PRMHN. PENGUJIAN'!G39 -> (silahkan di isi)
B19: 3 | D19: Pasir | H19: ü | Q19: ='S. PRMHN. PENGUJIAN'!F32 -> (silahkan di isi) | Z19: ='S. PRMHN. PENGUJIAN'!I32 -> (silahkan di isi)
B20: 4 | D20: Abu Batu
B21: 5 | D21: Batu pecah
B22: 6 | D22: Aspal
B23: 7 | D23: Asbuton
B24: 8 | D24: Kubus/Silinder beton/Paving
B25: 9 | D25: Tanah asli Tidak terganggu
B26: 10 | D26: Hasil coredrill Aspal
B27: 11 | D27: Campuran Beraspal
B28: 12 | D28: Campuran LPA/LPB
B29: III. Jenis Pengujian Laboratorium (Beri tanda √) sesuai No. Jenis Bahan
B30: 1 | C30: 2 | D30: 3 | E30: 4 | F30: 5 | G30: 6 | H30: 7 | I30: 8 | J30: 9 | K30: 10 | L30: 11 | M30: 12 | W30: 1 | X30: 2 | Y30: 3 | Z30: 4 | AA30: 5 | AB30: 6 | AC30: 7 | AD30: 8 | AE30: 9 | AF30: 10 | AG30: 11 | AH30: 12
N31: Keausan Agregat | AI31: Kuat tekan bebas | AY31: B.054
N32: Kelekatan agregat | AI32: Cohesi c &sudut geser θ
N33: Analisa saringan agregat | AI33: Hydrometer
N34: Berat jenis dan penyerapan Agregat/tanah | AI34: Konsolidasi
AI35: Permeability
N36: Bobot isi dan rongga udara Agg | AI36: Kadar air
N37: Batas cair | AI37: Kepadatan berat / ringan
N38: Indeks Plastisitas | AI38: CBR
N39: Lolos saringan # No.200 | AI39: Marshall Test
N40: Kadar lumpur | AI40: Bd.Campuran aspal
N41: Kotoran organik | AI41: Ekstraksi sentrifus/replux
N42: Angularitas | AI42: Penetrasi Aspal
N43: Sand Equivalent | AI43: Daktilitas
N44: Impec Test | AI44: Titik Lembek
N45: Kekekalan bentuk | AI45: Berat jenis nyata camp. Beraspal
H46: ` | N46: Renc. Camp.Beton | AI46: Kelarutan Aspal
N47: Slump beton | AI47: Titik Nyala/Bakar
N48: Kuat tekan beton | AI48: Kehilangan berat (LOH)
N49: Berat isi, volume, beton | AI49: Viscositas
B50: Catatan Penerima Contoh : | AD50: Yang Menerima | AK50: Pemohon
C51: =AF18 -> (silahkan di isi)
AD53: ='S. PRMHN. PENGUJIAN'!B51 -> ( ) | AK53: ='S. PRMHN. PENGUJIAN'!I51 -> (di isi sesuai nama di KTP)
B54: Kepala Sub Bagian Tata Usaha | M54: Catatan Kepala Sub Bagian Tata Usaha : | AK54: Kepala Sub bagian Tata Usaha
C55: Ditunda
C56: Ke Kepala Laboratorium
C57: ……………………… | AV57: =2/3 -> 0.66666667
B58: Kepala Laboratorium
C59: Kepala Seksi Manajemen Mutu | Q59: Proses Sesuai Prosedur | AK59: Kepala Lab.
C60: Kepala Seksi Pelayanan Pengujian | Q60: Hadapkan yang Bersangkutan
C61: Kepala Sub Bagian Tata Usaha | Q61: Laporkan
C62: ……………………………… | Q62: ………………………………
B63: Kepala Seksi | I63: Personil Laboratorium yang ditunjuk untuk melakukan pengujian (Tuliskan Nama Penyelia dan Teknisi)
B64: Uji Material | AK64: Kasie Uji Material
B65: 1. Penyelia
B66: 2. Teknisi
B67: 3. Ketua Tim Penguji
B68: Waktu Penyelesaian Pengujian | U68: Catatan Kepala Seksi Uji Material : | AK68: Kepala Seksi
B69: Mulai | AK69: Manajemen Mutu
B70: Selesai
B72: Catatan :Lembar 1 untuk Pemohon, Lembar 2 Kepala Seksi Manajemen Mutu, Lembar 3 Arsip di unit Pelayanan | AM72: Tarif Terlampir

Sheet Sheet2
E2: PEMERINTAH PROVINSI GORONTALO | K2: No. | M2: BPMJB/FO/VII/01/01
E3: DINAS PEKERJAAN UMUM DAN PENATAAN RUANG | K3: No. Terbit | M3: 0
E4: PERUMAHAN DAN KAWASAN PERMUKIMAN | K4: Revisi | M4: 0
E5: UPTD BALAI PENGUJIAN MATERIAL JALAN DAN BANGUNAN | K5: Tanggal | M5: 01-06-2021
E6: Jln. Prof. Dr. Aloei Saboe Nomor 92 Kota Gorontalo Telp. (0435) 821806 | K6: Paraf
E7: TINJAUAN PERMINTAAN, TENDER DAN KONTRAK
B9: FORMULIR PERMINTAAN PENGUJIAN
C10: 1 | D10: Tanggal Penerimaan Sampel | F10: : | G10: =Sheet1!AJ10 -> 0 | H10: =Sheet1!AJ10 -> 0 | L10: (diisi bagian pelayanan)
C11: 2 | D11: No. Referensi | F11: : | L11: (diisi bagian pelayanan)
C12: 3 | D12: Nama Pemohon | F12: : | G12: =Sheet1!K9 -> (di isi sesuai nama perusahaan)
C13: 4 | D13: Proyek / Kegiatan | F13: : | G13: =Sheet1!K10 -> (di isi sesuai nama paket / kegiatan)
G14: =Sheet1!K12 -> (di isi sesuai nama kabupaten / kota)
C15: 6 | D15: Kode Sampel Uji | F15: : | G15: =Sheet1!AO8 -> 0 | L15: (diisi bagian pelayanan)
C16: 7 | D16: Informasi Sampel Uji | F16: :
C17: 8 | D17: No. Laporan | F17: :
B19: No. | E19: Uraian Jasa | G19: Metode | I19: Jenis Sampel | J19: Jumlah Sampel Uji | K19: Biaya / 10 Sampel | M19: Jumlah (Rp)
B20: 1
B21: 2
B22: 3
B23: 4
B24: 5
B25: 6
B26: 7
B27: 8
B28: 9
B29: 10
B30: 11
B31: 12
... B35: 16
B36: 17 | L36: Total Jumlah = | N36: =SUM(N20:N25) -> 0
C38: 1 | D38: Pembayaran retribusi hanya Non Tunai melalui Rekening Kas Daerah
C39: 2 | D39: Waktu pelaksanaan pengujian/analisa selama…....... Hari kerja sejak sampel diterima
C40: 3 | D40: Laporan hasil uji dapat diambil setelah pelunasan biaya pengujian (Laporan hasil uji diambil/dikirim)*
C41: 4 | D41: Penyaksian pekerjaan (witnees) iya/tidak, jika iya tanggal…..
C42: 5 | D42: Sisa sampel diambil/dikirim/dimusnahkan
D43: Batas pengambilan sampel 2 (dua) minggu sejak laporan hasil uji diterima
C44: 6 | D44: Permintaan Khusus…............................
C45: 7 | D45: Kami memberikan waktu 3 (tiga) hari kepada pelanggan untuk menyepakati Formulir Permintaan Pengujian sejak dimasukkan surat permohonan
D48: Mengetahui | K48: Menyetujui
D49: Kepala UPTD-BPMJB | K49: Pelanggan
D53: ( ZULKARNAIN J. DANIAL, ST) | K53: =Sheet1!AK53 -> (di isi sesuai nama di KTP)

Sheet Sheet3
A1: Bukti Setoran | B1: : | C1: =Sheet1!K9 -> (di isi sesuai nama perusahaan)
A2: No. Order | B2: : | C2: =Sheet1!AO8 -> 0
A3: BIAYA | B3: : | C3: =Sheet2!E20 -> 0

Sheet Sheet4
A1: DOKUMENTASI MATERIAL
A2: No. Order : | B2: =Sheet1!AO8 -> 0 | H2: Tanggal : | J2: =Sheet1!AJ10 -> 0
H3: Petugas Penerimaan Sampel : | J3: =Sheet1!AD53 -> ( )
A6: No | B6: Material | E6: Jumlah | F6: Dokumentasi | K6: Keterangan
A8: 1 | D8: Paving
D9: Kubus beton
D10: Silinder beton
D11: Batako
D12: Topi uskup
D13: Kansting
D14: Mortar
A23: 2 | D23: DMF :
D24: Pasir
D25: Kerikil
D26: Batu Pecah
D27: Semen
